BEGIN:VCALENDAR
VERSION:2.0
PRODID:-//cogop-bc.org - ECPv5.0.3.1//NONSGML v1.0//EN
CALSCALE:GREGORIAN
METHOD:PUBLISH
X-WR-CALNAME:cogop-bc.org
X-ORIGINAL-URL:https://cogop-bc.org
X-WR-CALDESC:Events for cogop-bc.org
BEGIN:VTIMEZONE
TZID:America/Indiana/Indianapolis
BEGIN:DAYLIGHT
TZOFFSETFROM:-0500
TZOFFSETTO:-0400
TZNAME:EDT
DTSTART:20200308T070000
END:DAYLIGHT
BEGIN:STANDARD
TZOFFSETFROM:-0400
TZOFFSETTO:-0500
TZNAME:EST
DTSTART:20201101T060000
END:STANDARD
END:VTIMEZONE
BEGIN:VEVENT
DTSTART;TZID=America/Indiana/Indianapolis:20200531T110000
DTEND;TZID=America/Indiana/Indianapolis:20200531T120000
DTSTAMP:20260423T150528
CREATED:20200517T141927Z
LAST-MODIFIED:20200517T204644Z
UID:699-1590922800-1590926400@cogop-bc.org
SUMMARY:Worship
DESCRIPTION:Resume worship in the sanctuary. \n
URL:https://cogop-bc.org/?tribe_events=worship-2
LOCATION:Church
END:VEVENT
END:VCALENDAR